BEGIN:VCALENDAR
VERSION:2.0
PRODID:-//Kölnische Gesellschaft für Christlich-Jüdische Zusammenarbeit e.V. - ECPv6.15.18//NONSGML v1.0//EN
CALSCALE:GREGORIAN
METHOD:PUBLISH
X-WR-CALNAME:Kölnische Gesellschaft für Christlich-Jüdische Zusammenarbeit e.V.
X-ORIGINAL-URL:https://www.koelnische-gesellschaft.de
X-WR-CALDESC:Veranstaltungen für Kölnische Gesellschaft für Christlich-Jüdische Zusammenarbeit e.V.
REFRESH-INTERVAL;VALUE=DURATION:PT1H
X-Robots-Tag:noindex
X-PUBLISHED-TTL:PT1H
BEGIN:VTIMEZONE
TZID:Europe/Berlin
BEGIN:DAYLIGHT
TZOFFSETFROM:+0100
TZOFFSETTO:+0200
TZNAME:CEST
DTSTART:20250330T010000
END:DAYLIGHT
BEGIN:STANDARD
TZOFFSETFROM:+0200
TZOFFSETTO:+0100
TZNAME:CET
DTSTART:20251026T010000
END:STANDARD
BEGIN:DAYLIGHT
TZOFFSETFROM:+0100
TZOFFSETTO:+0200
TZNAME:CEST
DTSTART:20260329T010000
END:DAYLIGHT
BEGIN:STANDARD
TZOFFSETFROM:+0200
TZOFFSETTO:+0100
TZNAME:CET
DTSTART:20261025T010000
END:STANDARD
BEGIN:DAYLIGHT
TZOFFSETFROM:+0100
TZOFFSETTO:+0200
TZNAME:CEST
DTSTART:20270328T010000
END:DAYLIGHT
BEGIN:STANDARD
TZOFFSETFROM:+0200
TZOFFSETTO:+0100
TZNAME:CET
DTSTART:20271031T010000
END:STANDARD
END:VTIMEZONE
BEGIN:VEVENT
DTSTART;VALUE=DATE:20260508
DTEND;VALUE=DATE:20261012
DTSTAMP:20260421T122127
CREATED:20260217T111037Z
LAST-MODIFIED:20260217T111601Z
UID:3710-1778198400-1791763199@www.koelnische-gesellschaft.de
SUMMARY:Intensiv-Fortbildung "Un/learning through [E]Motion": 5 Module à 2\,5 Tage
DESCRIPTION:Die Intensiv-Fortbildung Un/Learning through [E]Motion – Körper & Emotionen in der politischen Bildung zu Antisemitismus & Rassismus verbindet theoretische Ansätze aus der Antisemitismus- und Rassismuskritik mit körperbasierten\, traumasensiblen und kreativen Methoden aus Tanz- und Theaterpädagogik. Sie richtet sich an Multiplikator*innen der politischen Bildung sowie an pädagogisch Tätige aus Schule\, Jugend- und Erwachsenenbildung und verwandten Praxisfeldern. \nIm Mittelpunkt steht das Lernen mit Körper und Emotion: Wie können Bildungsangebote zu diskriminierungssensiblen Themen so gestaltet werden\, dass sie reflektiert\, handlungsorientiert und emotionsbewusst sind? Die Fortbildung bietet Raum für Austausch\, Selbstreflexion und gemeinsames Erproben neuer pädagogischer Zugänge. \nDie fünf aufeinander aufbauenden Module können nur als Gesamtfortbildung gebucht werden. Eine Einzelanmeldung ist nicht möglich. \nModule: \nModul 1 (08.-10.05.26): Grundlagen der Antisemitismus- und Rassismuskritik\, Braver Spaces\, Emotionen & Emotionsregulierung \nModul 2 (09.-11.06.26): Emotionen und Körper im Kontext von Rassismus und Antisemitismus \nModul 3 (14.-16.07.26): Nervensystem\, Stress\, Trauma und traumasensibles Arbeiten \nModul 4 (01.-03.09.26): Gemeinsamkeiten & Spannungsfelder\, Israel-Palästina-Konflikt\, israelbezogener Antisemitismus \nModul 5 (09.-11.10.26): Empowerment\, Handlungsfähigkeit\, Praxis-Transfer \nDie Fortbildung ist prozessorientiert und setzt Offenheit für körperbasierte Methoden sowie regelmäßige Teilnahme und Peer-Austausch voraus. \n Modultermine (s. o.) + zusätzlich am 17.02.26\, 17 – 18 Uhr Meet the teachers Q&A (Zoom)\, optional \nBewerbungsfrist 08.03.26\n \n\nBewerben können Sie sich hier. \nWeitere Infos zur Fortbildung und den Flyer finden Sie hier. \n\nZu weiteren Fragen wenden Sie sich bitte an unlearning@koelnische-gesellschaft.de
URL:https://www.koelnische-gesellschaft.de/veranstaltungen/intensiv-fortbildung-un-learning-through-emotion-5-module-a-5-blockveranstaltungen/
LOCATION:Haus der Evangelischen Kirche\, Kartäusergasse 9 – 11\, 50678 Köln
CATEGORIES:Fortbildung
END:VEVENT
END:VCALENDAR